BEGIN:VCALENDAR
VERSION:2.0
PRODID:-//Professionals in medische vervolgopleidingen AIOS - ECPv6.15.20//NONSGML v1.0//EN
CALSCALE:GREGORIAN
METHOD:PUBLISH
X-ORIGINAL-URL:https://www.detweedepraktijk.nl
X-WR-CALDESC:Evenementen voor Professionals in medische vervolgopleidingen AIOS
REFRESH-INTERVAL;VALUE=DURATION:PT1H
X-Robots-Tag:noindex
X-PUBLISHED-TTL:PT1H
BEGIN:VTIMEZONE
TZID:Europe/Helsinki
BEGIN:DAYLIGHT
TZOFFSETFROM:+0200
TZOFFSETTO:+0300
TZNAME:EEST
DTSTART:20220327T010000
END:DAYLIGHT
BEGIN:STANDARD
TZOFFSETFROM:+0300
TZOFFSETTO:+0200
TZNAME:EET
DTSTART:20221030T010000
END:STANDARD
BEGIN:DAYLIGHT
TZOFFSETFROM:+0200
TZOFFSETTO:+0300
TZNAME:EEST
DTSTART:20230326T010000
END:DAYLIGHT
BEGIN:STANDARD
TZOFFSETFROM:+0300
TZOFFSETTO:+0200
TZNAME:EET
DTSTART:20231029T010000
END:STANDARD
BEGIN:DAYLIGHT
TZOFFSETFROM:+0200
TZOFFSETTO:+0300
TZNAME:EEST
DTSTART:20240331T010000
END:DAYLIGHT
BEGIN:STANDARD
TZOFFSETFROM:+0300
TZOFFSETTO:+0200
TZNAME:EET
DTSTART:20241027T010000
END:STANDARD
BEGIN:DAYLIGHT
TZOFFSETFROM:+0200
TZOFFSETTO:+0300
TZNAME:EEST
DTSTART:20250330T010000
END:DAYLIGHT
BEGIN:STANDARD
TZOFFSETFROM:+0300
TZOFFSETTO:+0200
TZNAME:EET
DTSTART:20251026T010000
END:STANDARD
BEGIN:DAYLIGHT
TZOFFSETFROM:+0200
TZOFFSETTO:+0300
TZNAME:EEST
DTSTART:20260329T010000
END:DAYLIGHT
BEGIN:STANDARD
TZOFFSETFROM:+0300
TZOFFSETTO:+0200
TZNAME:EET
DTSTART:20261025T010000
END:STANDARD
BEGIN:DAYLIGHT
TZOFFSETFROM:+0200
TZOFFSETTO:+0300
TZNAME:EEST
DTSTART:20270328T010000
END:DAYLIGHT
BEGIN:STANDARD
TZOFFSETFROM:+0300
TZOFFSETTO:+0200
TZNAME:EET
DTSTART:20271031T010000
END:STANDARD
END:VTIMEZONE
BEGIN:VEVENT
DTSTART;TZID=Europe/Helsinki:20260323T090000
DTEND;TZID=Europe/Helsinki:20260323T170000
DTSTAMP:20260421T172454
CREATED:20251030T122412Z
LAST-MODIFIED:20260108T114901Z
UID:3361-1774256400-1774285200@www.detweedepraktijk.nl
SUMMARY:Masterclass voor onderwijskundigen
DESCRIPTION:
URL:https://www.detweedepraktijk.nl/agenda/masterclass-voor-onderwijskundigen/
LOCATION:De cursus vindt plaats op een trainingslocatie in Midden-Nederland
END:VEVENT
BEGIN:VEVENT
DTSTART;TZID=Europe/Helsinki:20260319T090000
DTEND;TZID=Europe/Helsinki:20260319T170000
DTSTAMP:20260421T172454
CREATED:20250620T121605Z
LAST-MODIFIED:20251126T095450Z
UID:3286-1773910800-1773939600@www.detweedepraktijk.nl
SUMMARY:Masterclass verandermanagement voor opleiders
DESCRIPTION:
URL:https://www.detweedepraktijk.nl/agenda/masterclass-verandermanagement-voor-opleiders-3/
LOCATION:De cursus vindt plaats op een trainingslocatie in Midden-Nederland
END:VEVENT
BEGIN:VEVENT
DTSTART;TZID=Europe/Helsinki:20260312T170000
DTEND;TZID=Europe/Helsinki:20260313T170000
DTSTAMP:20260421T172454
CREATED:20250512T115756Z
LAST-MODIFIED:20250620T121443Z
UID:3219-1773334800-1773421200@www.detweedepraktijk.nl
SUMMARY:Masterclass coachen van aios
DESCRIPTION:
URL:https://www.detweedepraktijk.nl/agenda/masterclass-coachen-van-aios-10/
LOCATION:De cursus vindt plaats op een trainingslocatie in Midden-Nederland
END:VEVENT
BEGIN:VEVENT
DTSTART;TZID=Europe/Helsinki:20260212T090000
DTEND;TZID=Europe/Helsinki:20260212T170000
DTSTAMP:20260421T172454
CREATED:20250512T115638Z
LAST-MODIFIED:20250620T121410Z
UID:3217-1770886800-1770915600@www.detweedepraktijk.nl
SUMMARY:Startende opleider: Hoe vind ik mijn weg?
DESCRIPTION:specifiek voor medisch specialisten
URL:https://www.detweedepraktijk.nl/agenda/startende-opleider-hoe-vind-ik-mijn-weg-7/
LOCATION:De cursus vindt plaats op een trainingslocatie in Midden-Nederland
END:VEVENT
BEGIN:VEVENT
DTSTART;TZID=Europe/Helsinki:20251212T090000
DTEND;TZID=Europe/Helsinki:20251212T170000
DTSTAMP:20260421T172454
CREATED:20250212T131606Z
LAST-MODIFIED:20250212T131606Z
UID:3167-1765530000-1765558800@www.detweedepraktijk.nl
SUMMARY:Masterclass selecteren kun je leren
DESCRIPTION:
URL:https://www.detweedepraktijk.nl/agenda/masterclass-selecteren-kun-je-leren-2/
LOCATION:De cursus vindt plaats op een trainingslocatie in Midden-Nederland
END:VEVENT
BEGIN:VEVENT
DTSTART;TZID=Europe/Helsinki:20251209T170000
DTEND;TZID=Europe/Helsinki:20251210T170000
DTSTAMP:20260421T172454
CREATED:20241202T121842Z
LAST-MODIFIED:20250207T084830Z
UID:3019-1765299600-1765386000@www.detweedepraktijk.nl
SUMMARY:Masterclass coachen van aios
DESCRIPTION:
URL:https://www.detweedepraktijk.nl/agenda/masterclass-coachen-van-aios-9/
LOCATION:De cursus vindt plaats op een trainingslocatie in Midden-Nederland
END:VEVENT
BEGIN:VEVENT
DTSTART;TZID=Europe/Helsinki:20251126T090000
DTEND;TZID=Europe/Helsinki:20251126T170000
DTSTAMP:20260421T172454
CREATED:20241202T121713Z
LAST-MODIFIED:20250212T131927Z
UID:3016-1764147600-1764176400@www.detweedepraktijk.nl
SUMMARY:Masterclass coachen van de eigen opleidingsgroep
DESCRIPTION:
URL:https://www.detweedepraktijk.nl/agenda/masterclass-coachen-van-de-eigen-opleidingsgroep-copy/
LOCATION:De cursus vindt plaats op een trainingslocatie in Midden-Nederland
END:VEVENT
BEGIN:VEVENT
DTSTART;TZID=Europe/Helsinki:20251125T090000
DTEND;TZID=Europe/Helsinki:20251125T170000
DTSTAMP:20260421T172454
CREATED:20241202T122214Z
LAST-MODIFIED:20250207T084936Z
UID:3021-1764061200-1764090000@www.detweedepraktijk.nl
SUMMARY:Masterclass verandermanagement voor opleiders
DESCRIPTION:
URL:https://www.detweedepraktijk.nl/agenda/masterclass-verandermanagement-voor-opleiders/
LOCATION:De cursus vindt plaats op een trainingslocatie in Midden-Nederland
END:VEVENT
BEGIN:VEVENT
DTSTART;TZID=Europe/Helsinki:20251121T090000
DTEND;TZID=Europe/Helsinki:20251121T170000
DTSTAMP:20260421T172454
CREATED:20241202T115647Z
LAST-MODIFIED:20250207T084959Z
UID:3005-1763715600-1763744400@www.detweedepraktijk.nl
SUMMARY:Startende opleider: Hoe vind ik mijn weg?
DESCRIPTION:specifiek voor medisch specialisten
URL:https://www.detweedepraktijk.nl/agenda/startende-opleider-hoe-vind-ik-mijn-weg-copy/
LOCATION:De cursus vindt plaats op een trainingslocatie in Midden-Nederland
END:VEVENT
BEGIN:VEVENT
DTSTART;TZID=Europe/Helsinki:20250916T170000
DTEND;TZID=Europe/Helsinki:20250917T170000
DTSTAMP:20260421T172454
CREATED:20230709T111017Z
LAST-MODIFIED:20250207T085215Z
UID:1750-1758042000-1758128400@www.detweedepraktijk.nl
SUMMARY:Masterclass coachen van aios
DESCRIPTION:
URL:https://www.detweedepraktijk.nl/agenda/masterclass-coachen-van-aios-6/
LOCATION:De cursus vindt plaats op een trainingslocatie in Midden-Nederland
END:VEVENT
BEGIN:VEVENT
DTSTART;TZID=Europe/Helsinki:20250620T090000
DTEND;TZID=Europe/Helsinki:20250620T170000
DTSTAMP:20260421T172454
CREATED:20220615T083146Z
LAST-MODIFIED:20250207T085056Z
UID:1244-1750410000-1750438800@www.detweedepraktijk.nl
SUMMARY:Masterclass coachen van de eigen opleidingsgroep
DESCRIPTION:
URL:https://www.detweedepraktijk.nl/agenda/masterclass-coachen-van-de-eigen-opleidingsgroep-5/
LOCATION:De cursus vindt plaats op een trainingslocatie in Midden-Nederland
END:VEVENT
BEGIN:VEVENT
DTSTART;TZID=Europe/Helsinki:20250611T090000
DTEND;TZID=Europe/Helsinki:20250611T170000
DTSTAMP:20260421T172454
CREATED:20220615T083816Z
LAST-MODIFIED:20250207T085151Z
UID:1246-1749632400-1749661200@www.detweedepraktijk.nl
SUMMARY:Startende opleider: Hoe vind ik mijn weg?
DESCRIPTION:specifiek voor medisch specialisten
URL:https://www.detweedepraktijk.nl/agenda/startende-opleider-hoe-vind-ik-mijn-weg-5/
LOCATION:De cursus vindt plaats op een trainingslocatie in Midden-Nederland
END:VEVENT
BEGIN:VEVENT
DTSTART;TZID=Europe/Helsinki:20250603T090000
DTEND;TZID=Europe/Helsinki:20250603T170000
DTSTAMP:20260421T172454
CREATED:20241208T085039Z
LAST-MODIFIED:20250212T131754Z
UID:3039-1748941200-1748970000@www.detweedepraktijk.nl
SUMMARY:Masterclass selecteren kun je leren
DESCRIPTION:
URL:https://www.detweedepraktijk.nl/agenda/masterclass-selecteren-kun-je-leren-copy/
LOCATION:De cursus vindt plaats op een trainingslocatie in Midden-Nederland
END:VEVENT
BEGIN:VEVENT
DTSTART;TZID=Europe/Helsinki:20250520T090000
DTEND;TZID=Europe/Helsinki:20250520T170000
DTSTAMP:20260421T172454
CREATED:20220615T084048Z
LAST-MODIFIED:20250207T085358Z
UID:1256-1747731600-1747760400@www.detweedepraktijk.nl
SUMMARY:Masterclass verandermanagement voor opleiders
DESCRIPTION:
URL:https://www.detweedepraktijk.nl/agenda/masterclass-implementeren-van-opleidingsvernieuwingen-4/
LOCATION:De cursus vindt plaats op een trainingslocatie in Midden-Nederland
END:VEVENT
BEGIN:VEVENT
DTSTART;TZID=Europe/Helsinki:20250313T170000
DTEND;TZID=Europe/Helsinki:20250314T170000
DTSTAMP:20260421T172454
CREATED:20220615T084209Z
LAST-MODIFIED:20250207T085329Z
UID:1258-1741885200-1741971600@www.detweedepraktijk.nl
SUMMARY:Masterclass coachen van aios
DESCRIPTION:
URL:https://www.detweedepraktijk.nl/agenda/masterclass-coachen-van-aios-5/
LOCATION:De cursus vindt plaats op een trainingslocatie in Midden-Nederland
END:VEVENT
BEGIN:VEVENT
DTSTART;TZID=Europe/Helsinki:20250204T090000
DTEND;TZID=Europe/Helsinki:20250204T090000
DTSTAMP:20260421T172454
CREATED:20241013T190544Z
LAST-MODIFIED:20241218T124452Z
UID:2902-1738659600-1738659600@www.detweedepraktijk.nl
SUMMARY:Masterclass selecteren kun je leren
DESCRIPTION:
URL:https://www.detweedepraktijk.nl/agenda/masterclass-selecteren-kun-je-leren/
LOCATION:De cusus vindt plaats op een trainingslocatie in Midden-Nederland.
END:VEVENT
BEGIN:VEVENT
DTSTART;TZID=Europe/Helsinki:20250129T090000
DTEND;TZID=Europe/Helsinki:20250129T170000
DTSTAMP:20260421T172454
CREATED:20230709T110855Z
LAST-MODIFIED:20241218T124359Z
UID:1748-1738141200-1738170000@www.detweedepraktijk.nl
SUMMARY:Masterclass coachen van de eigen opleidingsgroep
DESCRIPTION:
URL:https://www.detweedepraktijk.nl/agenda/masterclass-coachen-van-de-eigen-opleidingsgroep-7/
LOCATION:De cusus vindt plaats op een trainingslocatie in Midden-Nederland.
END:VEVENT
BEGIN:VEVENT
DTSTART;TZID=Europe/Helsinki:20241126T170000
DTEND;TZID=Europe/Helsinki:20241127T170000
DTSTAMP:20260421T172454
CREATED:20231107T194702Z
LAST-MODIFIED:20241013T191303Z
UID:2315-1732640400-1732726800@www.detweedepraktijk.nl
SUMMARY:Masterclass coachen van aios
DESCRIPTION:
URL:https://www.detweedepraktijk.nl/agenda/masterclass-coachen-van-aios-8/
LOCATION:De cusus vindt plaats op een trainingslocatie in Midden-Nederland.
END:VEVENT
BEGIN:VEVENT
DTSTART;TZID=Europe/Helsinki:20241112T090000
DTEND;TZID=Europe/Helsinki:20241112T170000
DTSTAMP:20260421T172454
CREATED:20231105T131202Z
LAST-MODIFIED:20241125T133433Z
UID:2269-1731402000-1731430800@www.detweedepraktijk.nl
SUMMARY:Masterclass verandermanagement voor opleiders
DESCRIPTION:
URL:https://www.detweedepraktijk.nl/agenda/masterclass-implementeren-van-opleidingsvernieuwingen-5/
LOCATION:De cusus vindt plaats op een trainingslocatie in Midden-Nederland.
END:VEVENT
BEGIN:VEVENT
DTSTART;TZID=Europe/Helsinki:20241009T090000
DTEND;TZID=Europe/Helsinki:20241009T170000
DTSTAMP:20260421T172454
CREATED:20231105T131635Z
LAST-MODIFIED:20231105T131635Z
UID:2273-1728464400-1728493200@www.detweedepraktijk.nl
SUMMARY:Startende opleider: Hoe vind ik mijn weg?
DESCRIPTION:specifiek voor medisch specialisten
URL:https://www.detweedepraktijk.nl/agenda/startende-opleider-hoe-vind-ik-mijn-weg-6/
LOCATION:De cusus vindt plaats op een trainingslocatie in Midden-Nederland.
END:VEVENT
BEGIN:VEVENT
DTSTART;TZID=Europe/Helsinki:20240906T090000
DTEND;TZID=Europe/Helsinki:20240906T170000
DTSTAMP:20260421T172454
CREATED:20231105T131850Z
LAST-MODIFIED:20231105T131850Z
UID:2275-1725613200-1725642000@www.detweedepraktijk.nl
SUMMARY:Masterclass coachen van de eigen opleidingsgroep
DESCRIPTION:
URL:https://www.detweedepraktijk.nl/agenda/masterclass-coachen-van-de-eigen-opleidingsgroep-8/
LOCATION:De cusus vindt plaats op een trainingslocatie in Midden-Nederland.
END:VEVENT
BEGIN:VEVENT
DTSTART;TZID=Europe/Helsinki:20240514T090000
DTEND;TZID=Europe/Helsinki:20240514T170000
DTSTAMP:20260421T172454
CREATED:20230709T111249Z
LAST-MODIFIED:20231105T122459Z
UID:1754-1715677200-1715706000@www.detweedepraktijk.nl
SUMMARY:Masterclass implementeren van opleidingsvernieuwingen
DESCRIPTION:
URL:https://www.detweedepraktijk.nl/agenda/masterclass-implementeren-van-opleidingsvernieuwingen/
LOCATION:De cusus vindt plaats op een trainingslocatie in Midden-Nederland.
END:VEVENT
BEGIN:VEVENT
DTSTART;TZID=Europe/Helsinki:20240405T090000
DTEND;TZID=Europe/Helsinki:20240405T170000
DTSTAMP:20260421T172454
CREATED:20230709T111140Z
LAST-MODIFIED:20231105T122535Z
UID:1752-1712307600-1712336400@www.detweedepraktijk.nl
SUMMARY:Startende opleider: Hoe vind ik mijn weg?
DESCRIPTION:specifiek voor medisch specialisten
URL:https://www.detweedepraktijk.nl/agenda/startende-opleider-hoe-vind-ik-mijn-weg/
LOCATION:De cusus vindt plaats op een trainingslocatie in Midden-Nederland.
END:VEVENT
BEGIN:VEVENT
DTSTART;TZID=Europe/Helsinki:20231129T090000
DTEND;TZID=Europe/Helsinki:20231129T170000
DTSTAMP:20260421T172454
CREATED:20220615T083927Z
LAST-MODIFIED:20231105T123312Z
UID:1254-1701248400-1701277200@www.detweedepraktijk.nl
SUMMARY:Masterclass coachen van de eigen opleidingsgroep (NOG ENKELE PLAATSEN BESCHIKBAAR)
DESCRIPTION:
URL:https://www.detweedepraktijk.nl/agenda/masterclass-coachen-van-de-eigen-opleidingsgroep-6/
LOCATION:De cusus vindt plaats op een trainingslocatie in Midden-Nederland.
END:VEVENT
BEGIN:VEVENT
DTSTART;TZID=Europe/Helsinki:20231122T090000
DTEND;TZID=Europe/Helsinki:20231122T170000
DTSTAMP:20260421T172454
CREATED:20220918T121114Z
LAST-MODIFIED:20231105T123130Z
UID:1403-1700643600-1700672400@www.detweedepraktijk.nl
SUMMARY:Mentorschap: Hoe begeleid en coach ik de aios
DESCRIPTION:
URL:https://www.detweedepraktijk.nl/agenda/mentorschap-hoe-begeleid-en-coach-ik-de-aios-4/
LOCATION:De cusus vindt plaats op een trainingslocatie in Midden-Nederland.
END:VEVENT
BEGIN:VEVENT
DTSTART;TZID=Europe/Helsinki:20230616T100000
DTEND;TZID=Europe/Helsinki:20230616T180000
DTSTAMP:20260421T172454
CREATED:20220615T082323Z
LAST-MODIFIED:20221027T103250Z
UID:1238-1686909600-1686938400@www.detweedepraktijk.nl
SUMMARY:Startende opleider: Hoe vind ik mijn weg?
DESCRIPTION:specifiek voor medisch specialisten
URL:https://www.detweedepraktijk.nl/agenda/startende-opleider-hoe-vind-ik-mijn-weg-3/
LOCATION:De cusus vindt plaats op een trainingslocatie in Midden-Nederland.
END:VEVENT
BEGIN:VEVENT
DTSTART;TZID=Europe/Helsinki:20230608T100000
DTEND;TZID=Europe/Helsinki:20230608T180000
DTSTAMP:20260421T172454
CREATED:20220615T082004Z
LAST-MODIFIED:20221027T103157Z
UID:1236-1686218400-1686247200@www.detweedepraktijk.nl
SUMMARY:Masterclass coachen van de eigen opleidingsgroep
DESCRIPTION:
URL:https://www.detweedepraktijk.nl/agenda/masterclass-coachen-van-de-eigen-opleidingsgroep-4/
LOCATION:De cusus vindt plaats op een trainingslocatie in Midden-Nederland.
END:VEVENT
BEGIN:VEVENT
DTSTART;TZID=Europe/Helsinki:20230516T100000
DTEND;TZID=Europe/Helsinki:20230516T180000
DTSTAMP:20260421T172454
CREATED:20220615T081618Z
LAST-MODIFIED:20221027T103423Z
UID:1232-1684231200-1684260000@www.detweedepraktijk.nl
SUMMARY:Masterclass implementeren van opleidingsvernieuwingen
DESCRIPTION:
URL:https://www.detweedepraktijk.nl/agenda/masterclass-implementeren-van-opleidingsvernieuwingen-3/
LOCATION:De cusus vindt plaats op een trainingslocatie in Midden-Nederland.
END:VEVENT
BEGIN:VEVENT
DTSTART;TZID=Europe/Helsinki:20230315T100000
DTEND;TZID=Europe/Helsinki:20230315T180000
DTSTAMP:20260421T172454
CREATED:20220511T104521Z
LAST-MODIFIED:20230205T071729Z
UID:1057-1678874400-1678903200@www.detweedepraktijk.nl
SUMMARY:Startende opleider: Hoe vind ik mijn weg? (VOL)
DESCRIPTION:specifiek voor medisch specialisten
URL:https://www.detweedepraktijk.nl/agenda/startende-opleider-hoe-vind-ik-mijn-weg-2/
LOCATION:De cusus vindt plaats op een trainingslocatie in Midden-Nederland.
END:VEVENT
END:VCALENDAR